BEGIN:VCALENDAR
PRODID:-//Pixl8//Eventfolio//EN
VERSION:2.0
X-WR-TIMEZONE:Europe/London
CALSCALE:GREGORIAN
METHOD:PUBLISH
CLASS:PUBLIC
BEGIN:VTIMEZONE
TZID:Europe/London
LAST-MODIFIED:20260306T231828Z
TZURL:https://www.tzurl.org/zoneinfo-outlook/Europe/London
X-LIC-LOCATION:Europe/London
BEGIN:DAYLIGHT
TZNAME:BST
TZOFFSETFROM:+0000
TZOFFSETTO:+0100
DTSTART:19700329T010000
RRULE:FREQ=YEARLY;BYMONTH=3;BYDAY=-1SU
END:DAYLIGHT
BEGIN:STANDARD
TZNAME:GMT
TZOFFSETFROM:+0100
TZOFFSETTO:+0000
DTSTART:19701025T020000
RRULE:FREQ=YEARLY;BYMONTH=10;BYDAY=-1SU
END:STANDARD
END:VTIMEZONE
BEGIN:VEVENT
DTSTART;TZID=Europe/London:20230420T080000
DTEND;TZID=Europe/London:20230420T100000
DTSTAMP:20260424T132132Z
UID:{fbcaa0a2-86a1-ed11-aad10022481b589a}
LOCATION:Liquid \, New Oxford House\, 16 Waterloo Street\, Birmingham B2 5UG
SUMMARY:1813 Club and Premier Members TikTok Masterclass 
DESCRIPTION:Event details: https://www.greaterbirminghamchambers.com/event-calendar/1813-and-premier-member-tik-tok-masterclass-210423-230421.html
PRIORITY:1
END:VEVENT
END:VCALENDAR