BEGIN:VCALENDAR
PRODID:-//Pixl8//Eventfolio//EN
VERSION:2.0
X-WR-TIMEZONE:Europe/London
CALSCALE:GREGORIAN
METHOD:PUBLISH
CLASS:PUBLIC
BEGIN:VTIMEZONE
TZID:Europe/London
LAST-MODIFIED:20260306T231828Z
TZURL:https://www.tzurl.org/zoneinfo-outlook/Europe/London
X-LIC-LOCATION:Europe/London
BEGIN:DAYLIGHT
TZNAME:BST
TZOFFSETFROM:+0000
TZOFFSETTO:+0100
DTSTART:19700329T010000
RRULE:FREQ=YEARLY;BYMONTH=3;BYDAY=-1SU
END:DAYLIGHT
BEGIN:STANDARD
TZNAME:GMT
TZOFFSETFROM:+0100
TZOFFSETTO:+0000
DTSTART:19701025T020000
RRULE:FREQ=YEARLY;BYMONTH=10;BYDAY=-1SU
END:STANDARD
END:VTIMEZONE
BEGIN:VEVENT
DTSTART;TZID=Europe/London:20230517T153000
DTEND;TZID=Europe/London:20230517T173000
DTSTAMP:20260423T173054Z
UID:{56840f5b-37b8-ed11-b5970022481b589a}
LOCATION:Birmingham Energy Innovation Centre \, Birmingham B25 8FJ
SUMMARY:1813 Club & Premier Members Exemplar Visit with Tyseley Energy Park
DESCRIPTION:Event details: https://www.greaterbirminghamchambers.com/event-calendar/1813-club-premier-members-exemplar-visit-170523-230517.html
PRIORITY:1
END:VEVENT
END:VCALENDAR