BEGIN:VCALENDAR
PRODID:-//Pixl8//Eventfolio//EN
VERSION:2.0
X-WR-TIMEZONE:Europe/London
CALSCALE:GREGORIAN
METHOD:PUBLISH
CLASS:PUBLIC
BEGIN:VTIMEZONE
TZID:Europe/London
LAST-MODIFIED:20260306T231828Z
TZURL:https://www.tzurl.org/zoneinfo-outlook/Europe/London
X-LIC-LOCATION:Europe/London
BEGIN:DAYLIGHT
TZNAME:BST
TZOFFSETFROM:+0000
TZOFFSETTO:+0100
DTSTART:19700329T010000
RRULE:FREQ=YEARLY;BYMONTH=3;BYDAY=-1SU
END:DAYLIGHT
BEGIN:STANDARD
TZNAME:GMT
TZOFFSETFROM:+0100
TZOFFSETTO:+0000
DTSTART:19701025T020000
RRULE:FREQ=YEARLY;BYMONTH=10;BYDAY=-1SU
END:STANDARD
END:VTIMEZONE
BEGIN:VEVENT
DTSTART;TZID=Europe/London:20230914T163000
DTEND;TZID=Europe/London:20230914T183000
DTSTAMP:20260424T104427Z
UID:{ea45ae29-512d-ee11-bdf4002248c8ed10}
LOCATION:Circle Health\, 25 Pebble Mill Rd\, Birmingham  B5 7TR
SUMMARY:1813 Club & Premier Members Exemplar Visit | Circle Health 
DESCRIPTION:Event details: https://www.greaterbirminghamchambers.com/event-calendar/1813-club-premier-members-exemplar-visit-circle-health-140923-230914.html
PRIORITY:1
END:VEVENT
END:VCALENDAR