BEGIN:VCALENDAR
PRODID:-//Pixl8//Eventfolio//EN
VERSION:2.0
X-WR-TIMEZONE:Europe/London
CALSCALE:GREGORIAN
METHOD:PUBLISH
CLASS:PUBLIC
BEGIN:VTIMEZONE
TZID:Europe/London
LAST-MODIFIED:20260306T231828Z
TZURL:https://www.tzurl.org/zoneinfo-outlook/Europe/London
X-LIC-LOCATION:Europe/London
BEGIN:DAYLIGHT
TZNAME:BST
TZOFFSETFROM:+0000
TZOFFSETTO:+0100
DTSTART:19700329T010000
RRULE:FREQ=YEARLY;BYMONTH=3;BYDAY=-1SU
END:DAYLIGHT
BEGIN:STANDARD
TZNAME:GMT
TZOFFSETFROM:+0100
TZOFFSETTO:+0000
DTSTART:19701025T020000
RRULE:FREQ=YEARLY;BYMONTH=10;BYDAY=-1SU
END:STANDARD
END:VTIMEZONE
BEGIN:VEVENT
DTSTART;TZID=Europe/London:20220912T120000
DTEND;TZID=Europe/London:20220912T143000
DTSTAMP:20260424T145212Z
UID:{e217bf79-151e-ed11-8210005056bf1e5b}
LOCATION:thestudio\, Cannon Street\, Birmingham B2 5EP
SUMMARY:1813 Club & Premier Members Christmas Lunch
DESCRIPTION:Event details: https://www.greaterbirminghamchambers.com/event-calendar/1813-premier-members-christmas-lunch-091222.html
PRIORITY:1
END:VEVENT
END:VCALENDAR