BEGIN:VCALENDAR
PRODID:-//Pixl8//Eventfolio//EN
VERSION:2.0
X-WR-TIMEZONE:Europe/London
CALSCALE:GREGORIAN
METHOD:PUBLISH
CLASS:PUBLIC
BEGIN:VTIMEZONE
TZID:Europe/London
LAST-MODIFIED:20260306T231828Z
TZURL:https://www.tzurl.org/zoneinfo-outlook/Europe/London
X-LIC-LOCATION:Europe/London
BEGIN:DAYLIGHT
TZNAME:BST
TZOFFSETFROM:+0000
TZOFFSETTO:+0100
DTSTART:19700329T010000
RRULE:FREQ=YEARLY;BYMONTH=3;BYDAY=-1SU
END:DAYLIGHT
BEGIN:STANDARD
TZNAME:GMT
TZOFFSETFROM:+0100
TZOFFSETTO:+0000
DTSTART:19701025T020000
RRULE:FREQ=YEARLY;BYMONTH=10;BYDAY=-1SU
END:STANDARD
END:VTIMEZONE
BEGIN:VEVENT
DTSTART;TZID=Europe/London:20221119T180000
DTEND;TZID=Europe/London:20221120T010000
DTSTAMP:20260423T102804Z
UID:{5b1588dd-54db-ec11-81fb005056bf1e5b}
LOCATION:The National Conference Centre\, Coventry Road\, Bickenhill\, Solihull  B92 0EJ
SUMMARY:Asian Business Chamber of Commerce Annual Dinner & Awards 2022
DESCRIPTION:Event details: https://www.greaterbirminghamchambers.com/event-calendar/abcc-dinner-awards-2022.html
PRIORITY:1
END:VEVENT
END:VCALENDAR