BEGIN:VCALENDAR
PRODID:-//Pixl8//Eventfolio//EN
VERSION:2.0
X-WR-TIMEZONE:Europe/London
CALSCALE:GREGORIAN
METHOD:PUBLISH
CLASS:PUBLIC
BEGIN:VTIMEZONE
TZID:Europe/London
LAST-MODIFIED:20260306T231828Z
TZURL:https://www.tzurl.org/zoneinfo-outlook/Europe/London
X-LIC-LOCATION:Europe/London
BEGIN:DAYLIGHT
TZNAME:BST
TZOFFSETFROM:+0000
TZOFFSETTO:+0100
DTSTART:19700329T010000
RRULE:FREQ=YEARLY;BYMONTH=3;BYDAY=-1SU
END:DAYLIGHT
BEGIN:STANDARD
TZNAME:GMT
TZOFFSETFROM:+0100
TZOFFSETTO:+0000
DTSTART:19701025T020000
RRULE:FREQ=YEARLY;BYMONTH=10;BYDAY=-1SU
END:STANDARD
END:VTIMEZONE
BEGIN:VEVENT
DTSTART;TZID=Europe/London:20260130T140000
DTEND;TZID=Europe/London:20260130T144500
DTSTAMP:20260425T170827Z
UID:{DE1E6EBD-1CBE-4D7C-90C02DE716E2DD4F}
LOCATION:Online\, Webinar Training
SUMMARY:AI Academy: Personalised training delivering real business results
DESCRIPTION:Event details: https://www.greaterbirminghamchambers.com/event-calendar/ai-academy-personalised-training-delivering-real-business-results.html
PRIORITY:1
END:VEVENT
END:VCALENDAR