BEGIN:VCALENDAR
PRODID:-//Pixl8//Eventfolio//EN
VERSION:2.0
X-WR-TIMEZONE:Europe/London
CALSCALE:GREGORIAN
METHOD:PUBLISH
CLASS:PUBLIC
BEGIN:VTIMEZONE
TZID:Europe/London
LAST-MODIFIED:20260306T231828Z
TZURL:https://www.tzurl.org/zoneinfo-outlook/Europe/London
X-LIC-LOCATION:Europe/London
BEGIN:DAYLIGHT
TZNAME:BST
TZOFFSETFROM:+0000
TZOFFSETTO:+0100
DTSTART:19700329T010000
RRULE:FREQ=YEARLY;BYMONTH=3;BYDAY=-1SU
END:DAYLIGHT
BEGIN:STANDARD
TZNAME:GMT
TZOFFSETFROM:+0100
TZOFFSETTO:+0000
DTSTART:19701025T020000
RRULE:FREQ=YEARLY;BYMONTH=10;BYDAY=-1SU
END:STANDARD
END:VTIMEZONE
BEGIN:VEVENT
DTSTART;TZID=Europe/London:20231026T090000
DTEND;TZID=Europe/London:20231026T110000
DTSTAMP:20260425T051548Z
UID:{c8d2fec1-7c46-ee11-be6e002248c8ecc4}
LOCATION:The Exchange\, 3 Centenary Square\, Birmingham B1 2DR
SUMMARY:Birmingham Economic Review 2023
DESCRIPTION:Event details: https://www.greaterbirminghamchambers.com/event-calendar/birmingham-economic-review-2023-231026.html
PRIORITY:1
END:VEVENT
END:VCALENDAR