BEGIN:VCALENDAR
PRODID:-//Pixl8//Eventfolio//EN
VERSION:2.0
X-WR-TIMEZONE:Europe/London
CALSCALE:GREGORIAN
METHOD:PUBLISH
CLASS:PUBLIC
BEGIN:VTIMEZONE
TZID:Europe/London
LAST-MODIFIED:20260306T231828Z
TZURL:https://www.tzurl.org/zoneinfo-outlook/Europe/London
X-LIC-LOCATION:Europe/London
BEGIN:DAYLIGHT
TZNAME:BST
TZOFFSETFROM:+0000
TZOFFSETTO:+0100
DTSTART:19700329T010000
RRULE:FREQ=YEARLY;BYMONTH=3;BYDAY=-1SU
END:DAYLIGHT
BEGIN:STANDARD
TZNAME:GMT
TZOFFSETFROM:+0100
TZOFFSETTO:+0000
DTSTART:19701025T020000
RRULE:FREQ=YEARLY;BYMONTH=10;BYDAY=-1SU
END:STANDARD
END:VTIMEZONE
BEGIN:VEVENT
DTSTART;TZID=Europe/London:20250502T114500
DTEND;TZID=Europe/London:20250502T140000
DTSTAMP:20260424T104249Z
UID:{846C933F-45F7-4CCB-B5E9AEA8F2092E4F}
LOCATION:Unique Venues Birmingham (Birmingham Library)
SUMMARY:Birmingham Networking Lunch and Speed Networking
DESCRIPTION:Event details: https://www.greaterbirminghamchambers.com/event-calendar/birmingham-networking-lunch-and-speed-networking-maybham.html
PRIORITY:1
END:VEVENT
END:VCALENDAR