BEGIN:VCALENDAR
PRODID:-//Pixl8//Eventfolio//EN
VERSION:2.0
X-WR-TIMEZONE:Europe/London
CALSCALE:GREGORIAN
METHOD:PUBLISH
CLASS:PUBLIC
BEGIN:VTIMEZONE
TZID:Europe/London
LAST-MODIFIED:20260306T231828Z
TZURL:https://www.tzurl.org/zoneinfo-outlook/Europe/London
X-LIC-LOCATION:Europe/London
BEGIN:DAYLIGHT
TZNAME:BST
TZOFFSETFROM:+0000
TZOFFSETTO:+0100
DTSTART:19700329T010000
RRULE:FREQ=YEARLY;BYMONTH=3;BYDAY=-1SU
END:DAYLIGHT
BEGIN:STANDARD
TZNAME:GMT
TZOFFSETFROM:+0100
TZOFFSETTO:+0000
DTSTART:19701025T020000
RRULE:FREQ=YEARLY;BYMONTH=10;BYDAY=-1SU
END:STANDARD
END:VTIMEZONE
BEGIN:VEVENT
DTSTART;TZID=Europe/London:20251210T160000
DTEND;TZID=Europe/London:20251210T180000
DTSTAMP:20260423T053229Z
UID:{008DC8A5-CB2C-4C10-A86798A95354B920}
LOCATION:The Devonshire Arms\, 86 Station St\, Burton-on-Trent DE14 1BT
SUMMARY:Burton & District Chamber Christmas Social
DESCRIPTION:Event details: https://www.greaterbirminghamchambers.com/event-calendar/burton-district-chamber-christmas-social.html
PRIORITY:1
END:VEVENT
END:VCALENDAR