BEGIN:VCALENDAR
PRODID:-//Pixl8//Eventfolio//EN
VERSION:2.0
X-WR-TIMEZONE:Europe/London
CALSCALE:GREGORIAN
METHOD:PUBLISH
CLASS:PUBLIC
BEGIN:VTIMEZONE
TZID:Europe/London
LAST-MODIFIED:20260306T231828Z
TZURL:https://www.tzurl.org/zoneinfo-outlook/Europe/London
X-LIC-LOCATION:Europe/London
BEGIN:DAYLIGHT
TZNAME:BST
TZOFFSETFROM:+0000
TZOFFSETTO:+0100
DTSTART:19700329T010000
RRULE:FREQ=YEARLY;BYMONTH=3;BYDAY=-1SU
END:DAYLIGHT
BEGIN:STANDARD
TZNAME:GMT
TZOFFSETFROM:+0100
TZOFFSETTO:+0000
DTSTART:19701025T020000
RRULE:FREQ=YEARLY;BYMONTH=10;BYDAY=-1SU
END:STANDARD
END:VTIMEZONE
BEGIN:VEVENT
DTSTART;TZID=Europe/London:20241107T160000
DTEND;TZID=Europe/London:20241107T173000
DTSTAMP:20260424T113348Z
UID:{E273B0AC-0200-428F-85648D0184FED2E1}
LOCATION:Branston Golf & Country Club\, Burton Rd\, Burton upon Trent\, Burton-on-Trent DE14 3DP
SUMMARY:Burton & District Chamber of Commerce: Business Members Round-Table
DESCRIPTION:Event details: https://www.greaterbirminghamchambers.com/event-calendar/burton-district-chamber-of-commerce-business-members-round-table.html
PRIORITY:1
END:VEVENT
END:VCALENDAR