BEGIN:VCALENDAR
PRODID:-//Pixl8//Eventfolio//EN
VERSION:2.0
X-WR-TIMEZONE:Europe/London
CALSCALE:GREGORIAN
METHOD:PUBLISH
CLASS:PUBLIC
BEGIN:VTIMEZONE
TZID:Europe/London
LAST-MODIFIED:20260306T231828Z
TZURL:https://www.tzurl.org/zoneinfo-outlook/Europe/London
X-LIC-LOCATION:Europe/London
BEGIN:DAYLIGHT
TZNAME:BST
TZOFFSETFROM:+0000
TZOFFSETTO:+0100
DTSTART:19700329T010000
RRULE:FREQ=YEARLY;BYMONTH=3;BYDAY=-1SU
END:DAYLIGHT
BEGIN:STANDARD
TZNAME:GMT
TZOFFSETFROM:+0100
TZOFFSETTO:+0000
DTSTART:19701025T020000
RRULE:FREQ=YEARLY;BYMONTH=10;BYDAY=-1SU
END:STANDARD
END:VTIMEZONE
BEGIN:VEVENT
DTSTART;TZID=Europe/London:20240327T120000
DTEND;TZID=Europe/London:20240327T140000
DTSTAMP:20260424T082906Z
UID:{5155BD2C-CBED-41CA-8DF17CA1D3315D30}
LOCATION:Branston Golf & Country Club\, Burton Rd\, Burton upon Trent\, Burton-on-Trent DE14 3DP
SUMMARY:Burton Social Networking with Future Faces 
DESCRIPTION:Event details: https://www.greaterbirminghamchambers.com/event-calendar/burton-social-networking-with-future-faces.html
PRIORITY:1
END:VEVENT
END:VCALENDAR