BEGIN:VCALENDAR
PRODID:-//Pixl8//Eventfolio//EN
VERSION:2.0
X-WR-TIMEZONE:Europe/London
CALSCALE:GREGORIAN
METHOD:PUBLISH
CLASS:PUBLIC
BEGIN:VTIMEZONE
TZID:Europe/London
LAST-MODIFIED:20260306T231828Z
TZURL:https://www.tzurl.org/zoneinfo-outlook/Europe/London
X-LIC-LOCATION:Europe/London
BEGIN:DAYLIGHT
TZNAME:BST
TZOFFSETFROM:+0000
TZOFFSETTO:+0100
DTSTART:19700329T010000
RRULE:FREQ=YEARLY;BYMONTH=3;BYDAY=-1SU
END:DAYLIGHT
BEGIN:STANDARD
TZNAME:GMT
TZOFFSETFROM:+0100
TZOFFSETTO:+0000
DTSTART:19701025T020000
RRULE:FREQ=YEARLY;BYMONTH=10;BYDAY=-1SU
END:STANDARD
END:VTIMEZONE
BEGIN:VEVENT
DTSTART;TZID=Europe/London:20260113T083000
DTEND;TZID=Europe/London:20260113T100000
DTSTAMP:20260423T103732Z
UID:{576A877A-EF65-4F5B-A300C9B2955DB71F}
LOCATION:Aquarius Ballroom\, Hednesford\, Victoria Shopping Park\, Hednesford WS12 1BT
SUMMARY:Business at Breakfast - Create Professional Videos on Your Phone 
DESCRIPTION:Event details: https://www.greaterbirminghamchambers.com/event-calendar/business-at-breakfast-create-professional-videos-on-your-phone.html
PRIORITY:1
END:VEVENT
END:VCALENDAR