BEGIN:VCALENDAR
PRODID:-//Pixl8//Eventfolio//EN
VERSION:2.0
X-WR-TIMEZONE:Europe/London
CALSCALE:GREGORIAN
METHOD:PUBLISH
CLASS:PUBLIC
BEGIN:VTIMEZONE
TZID:Europe/London
LAST-MODIFIED:20260306T231828Z
TZURL:https://www.tzurl.org/zoneinfo-outlook/Europe/London
X-LIC-LOCATION:Europe/London
BEGIN:DAYLIGHT
TZNAME:BST
TZOFFSETFROM:+0000
TZOFFSETTO:+0100
DTSTART:19700329T010000
RRULE:FREQ=YEARLY;BYMONTH=3;BYDAY=-1SU
END:DAYLIGHT
BEGIN:STANDARD
TZNAME:GMT
TZOFFSETFROM:+0100
TZOFFSETTO:+0000
DTSTART:19701025T020000
RRULE:FREQ=YEARLY;BYMONTH=10;BYDAY=-1SU
END:STANDARD
END:VTIMEZONE
BEGIN:VEVENT
DTSTART;TZID=Europe/London:20230516T080000
DTEND;TZID=Europe/London:20230516T093000
DTSTAMP:20260424T113354Z
UID:{dc21448e-03c8-ed11-b5966045bd0cf6ea}
LOCATION:The Regency Hotel\, Stratford Rd\, Shirley\, B90 4EB
SUMMARY:Business at Breakfast - Cyber Security: Myths and Misconceptions 
DESCRIPTION:Event details: https://www.greaterbirminghamchambers.com/event-calendar/business-at-breakfast-cyber-security-myths-and-misconceptions-230516.html
PRIORITY:1
END:VEVENT
END:VCALENDAR