BEGIN:VCALENDAR
PRODID:-//Pixl8//Eventfolio//EN
VERSION:2.0
X-WR-TIMEZONE:Europe/London
CALSCALE:GREGORIAN
METHOD:PUBLISH
CLASS:PUBLIC
BEGIN:VTIMEZONE
TZID:Europe/London
LAST-MODIFIED:20260306T231828Z
TZURL:https://www.tzurl.org/zoneinfo-outlook/Europe/London
X-LIC-LOCATION:Europe/London
BEGIN:DAYLIGHT
TZNAME:BST
TZOFFSETFROM:+0000
TZOFFSETTO:+0100
DTSTART:19700329T010000
RRULE:FREQ=YEARLY;BYMONTH=3;BYDAY=-1SU
END:DAYLIGHT
BEGIN:STANDARD
TZNAME:GMT
TZOFFSETFROM:+0100
TZOFFSETTO:+0000
DTSTART:19701025T020000
RRULE:FREQ=YEARLY;BYMONTH=10;BYDAY=-1SU
END:STANDARD
END:VTIMEZONE
BEGIN:VEVENT
DTSTART;TZID=Europe/London:20230418T080000
DTEND;TZID=Europe/London:20230418T093000
DTSTAMP:20260424T150031Z
UID:{0ba0d383-60b4-ed11-83fe0022481b589a}
LOCATION:Shirley Golf Club\, Stratford Road Shirley\, Solihull  B90 4EW
SUMMARY:Business at Breakfast Solihull - Businesses Engaging with Education
DESCRIPTION:Event details: https://www.greaterbirminghamchambers.com/event-calendar/business-at-breakfast-solihull-businesses-working-with-education-230418.html
PRIORITY:1
END:VEVENT
END:VCALENDAR