BEGIN:VCALENDAR
PRODID:-//Pixl8//Eventfolio//EN
VERSION:2.0
X-WR-TIMEZONE:Europe/London
CALSCALE:GREGORIAN
METHOD:PUBLISH
CLASS:PUBLIC
BEGIN:VTIMEZONE
TZID:Europe/London
LAST-MODIFIED:20260306T231828Z
TZURL:https://www.tzurl.org/zoneinfo-outlook/Europe/London
X-LIC-LOCATION:Europe/London
BEGIN:DAYLIGHT
TZNAME:BST
TZOFFSETFROM:+0000
TZOFFSETTO:+0100
DTSTART:19700329T010000
RRULE:FREQ=YEARLY;BYMONTH=3;BYDAY=-1SU
END:DAYLIGHT
BEGIN:STANDARD
TZNAME:GMT
TZOFFSETFROM:+0100
TZOFFSETTO:+0000
DTSTART:19701025T020000
RRULE:FREQ=YEARLY;BYMONTH=10;BYDAY=-1SU
END:STANDARD
END:VTIMEZONE
BEGIN:VEVENT
DTSTART;TZID=Europe/London:20240228T120000
DTEND;TZID=Europe/London:20240228T140000
DTSTAMP:20260421T085917Z
UID:{9C8F5958-0C66-4D74-9F468E0B9CA20D72}
LOCATION:Aquarius Ballroom\, Hednesford\, Victoria Shopping Park\, Hednesford WS12 1BT
SUMMARY:Cannock Chase AGM and Networking Lunch  
DESCRIPTION:Event details: https://www.greaterbirminghamchambers.com/event-calendar/cannock-chase-agm-and-networking-lunch.html
PRIORITY:1
END:VEVENT
END:VCALENDAR