BEGIN:VCALENDAR
PRODID:-//Pixl8//Eventfolio//EN
VERSION:2.0
X-WR-TIMEZONE:Europe/London
CALSCALE:GREGORIAN
METHOD:PUBLISH
CLASS:PUBLIC
BEGIN:VTIMEZONE
TZID:Europe/London
LAST-MODIFIED:20260306T231828Z
TZURL:https://www.tzurl.org/zoneinfo-outlook/Europe/London
X-LIC-LOCATION:Europe/London
BEGIN:DAYLIGHT
TZNAME:BST
TZOFFSETFROM:+0000
TZOFFSETTO:+0100
DTSTART:19700329T010000
RRULE:FREQ=YEARLY;BYMONTH=3;BYDAY=-1SU
END:DAYLIGHT
BEGIN:STANDARD
TZNAME:GMT
TZOFFSETFROM:+0100
TZOFFSETTO:+0000
DTSTART:19701025T020000
RRULE:FREQ=YEARLY;BYMONTH=10;BYDAY=-1SU
END:STANDARD
END:VTIMEZONE
BEGIN:VEVENT
DTSTART;TZID=Europe/London:20231214T163000
DTEND;TZID=Europe/London:20231214T183000
DTSTAMP:20260424T132132Z
UID:{E9D38A28-EB3E-4884-A5C795DEBE366502}
LOCATION:The Boat Inn\, Lichfield WS14 0BU
SUMMARY:Cannock Chase and Lichfield & Tamworth Christmas Social Networking 
DESCRIPTION:Event details: https://www.greaterbirminghamchambers.com/event-calendar/cannock-chase-and-lichfield-tamworth-christmas-social-networking.html
PRIORITY:1
END:VEVENT
END:VCALENDAR