BEGIN:VCALENDAR
PRODID:-//Pixl8//Eventfolio//EN
VERSION:2.0
X-WR-TIMEZONE:Europe/London
CALSCALE:GREGORIAN
METHOD:PUBLISH
CLASS:PUBLIC
BEGIN:VTIMEZONE
TZID:Europe/London
LAST-MODIFIED:20260306T231828Z
TZURL:https://www.tzurl.org/zoneinfo-outlook/Europe/London
X-LIC-LOCATION:Europe/London
BEGIN:DAYLIGHT
TZNAME:BST
TZOFFSETFROM:+0000
TZOFFSETTO:+0100
DTSTART:19700329T010000
RRULE:FREQ=YEARLY;BYMONTH=3;BYDAY=-1SU
END:DAYLIGHT
BEGIN:STANDARD
TZNAME:GMT
TZOFFSETFROM:+0100
TZOFFSETTO:+0000
DTSTART:19701025T020000
RRULE:FREQ=YEARLY;BYMONTH=10;BYDAY=-1SU
END:STANDARD
END:VTIMEZONE
BEGIN:VEVENT
DTSTART;TZID=Europe/London:20240425T073000
DTEND;TZID=Europe/London:20240425T093000
DTSTAMP:20260421T110442Z
UID:{6A01A001-5475-4D59-ABBF14E5F0919D70}
LOCATION:Chasetown Football Club \, Church Street\, Chasetown\, Burntwood  WS7 3QL
SUMMARY:Cannock Chase Business at Breakfast
DESCRIPTION:Event details: https://www.greaterbirminghamchambers.com/event-calendar/cannock-chase-business-at-breakfast.html
PRIORITY:1
END:VEVENT
END:VCALENDAR