BEGIN:VCALENDAR
PRODID:-//Pixl8//Eventfolio//EN
VERSION:2.0
X-WR-TIMEZONE:Europe/London
CALSCALE:GREGORIAN
METHOD:PUBLISH
CLASS:PUBLIC
BEGIN:VTIMEZONE
TZID:Europe/London
LAST-MODIFIED:20260306T231828Z
TZURL:https://www.tzurl.org/zoneinfo-outlook/Europe/London
X-LIC-LOCATION:Europe/London
BEGIN:DAYLIGHT
TZNAME:BST
TZOFFSETFROM:+0000
TZOFFSETTO:+0100
DTSTART:19700329T010000
RRULE:FREQ=YEARLY;BYMONTH=3;BYDAY=-1SU
END:DAYLIGHT
BEGIN:STANDARD
TZNAME:GMT
TZOFFSETFROM:+0100
TZOFFSETTO:+0000
DTSTART:19701025T020000
RRULE:FREQ=YEARLY;BYMONTH=10;BYDAY=-1SU
END:STANDARD
END:VTIMEZONE
BEGIN:VEVENT
DTSTART;TZID=Europe/London:20221027T080000
DTEND;TZID=Europe/London:20221027T090000
DTSTAMP:20260425T171244Z
UID:{bbce5f07-301a-ed11-820f005056bf1e5b}
LOCATION:Online\, Webinar Training
SUMMARY:Climate Risk & Adaptation – The Role of Business
DESCRIPTION:Event details: https://www.greaterbirminghamchambers.com/event-calendar/climate-risk-adaption-the-role-of-business.html
PRIORITY:1
END:VEVENT
END:VCALENDAR