BEGIN:VCALENDAR
PRODID:-//Pixl8//Eventfolio//EN
VERSION:2.0
X-WR-TIMEZONE:Europe/London
CALSCALE:GREGORIAN
METHOD:PUBLISH
CLASS:PUBLIC
BEGIN:VTIMEZONE
TZID:Europe/London
LAST-MODIFIED:20260306T231828Z
TZURL:https://www.tzurl.org/zoneinfo-outlook/Europe/London
X-LIC-LOCATION:Europe/London
BEGIN:DAYLIGHT
TZNAME:BST
TZOFFSETFROM:+0000
TZOFFSETTO:+0100
DTSTART:19700329T010000
RRULE:FREQ=YEARLY;BYMONTH=3;BYDAY=-1SU
END:DAYLIGHT
BEGIN:STANDARD
TZNAME:GMT
TZOFFSETFROM:+0100
TZOFFSETTO:+0000
DTSTART:19701025T020000
RRULE:FREQ=YEARLY;BYMONTH=10;BYDAY=-1SU
END:STANDARD
END:VTIMEZONE
BEGIN:VEVENT
DTSTART;TZID=Europe/London:20230323T083000
DTEND;TZID=Europe/London:20230323T103000
DTSTAMP:20260424T112228Z
UID:{bc131352-a877-ed11-81ac0022481b589a}
LOCATION:McDonald's Perry Barr\, Regina Drive\, Birmingham B42 1BY
SUMMARY:Future Faces Breakfast with Doug Wright
DESCRIPTION:Event details: https://www.greaterbirminghamchambers.com/event-calendar/coffee-morning-networking-230202.html
PRIORITY:1
END:VEVENT
END:VCALENDAR