BEGIN:VCALENDAR
PRODID:-//Pixl8//Eventfolio//EN
VERSION:2.0
X-WR-TIMEZONE:Europe/London
CALSCALE:GREGORIAN
METHOD:PUBLISH
CLASS:PUBLIC
BEGIN:VTIMEZONE
TZID:Europe/London
LAST-MODIFIED:20260306T231828Z
TZURL:https://www.tzurl.org/zoneinfo-outlook/Europe/London
X-LIC-LOCATION:Europe/London
BEGIN:DAYLIGHT
TZNAME:BST
TZOFFSETFROM:+0000
TZOFFSETTO:+0100
DTSTART:19700329T010000
RRULE:FREQ=YEARLY;BYMONTH=3;BYDAY=-1SU
END:DAYLIGHT
BEGIN:STANDARD
TZNAME:GMT
TZOFFSETFROM:+0100
TZOFFSETTO:+0000
DTSTART:19701025T020000
RRULE:FREQ=YEARLY;BYMONTH=10;BYDAY=-1SU
END:STANDARD
END:VTIMEZONE
BEGIN:VEVENT
DTSTART;TZID=Europe/London:20251113T153000
DTEND;TZID=Europe/London:20251113T173000
DTSTAMP:20260424T015708Z
UID:{4D2C2C9D-176A-4AEF-8E56A9711D088366}
LOCATION:Millennium Point\, Curzon St\, Birmingham  B4 7XG
SUMMARY:Discover your Chamber: non member in-person event
DESCRIPTION:Event details: https://www.greaterbirminghamchambers.com/event-calendar/discover-your-chamber-non-member-in-person-eventnov25.html
PRIORITY:1
END:VEVENT
END:VCALENDAR