BEGIN:VCALENDAR
PRODID:-//Pixl8//Eventfolio//EN
VERSION:2.0
X-WR-TIMEZONE:Europe/London
CALSCALE:GREGORIAN
METHOD:PUBLISH
CLASS:PUBLIC
BEGIN:VTIMEZONE
TZID:Europe/London
LAST-MODIFIED:20260306T231828Z
TZURL:https://www.tzurl.org/zoneinfo-outlook/Europe/London
X-LIC-LOCATION:Europe/London
BEGIN:DAYLIGHT
TZNAME:BST
TZOFFSETFROM:+0000
TZOFFSETTO:+0100
DTSTART:19700329T010000
RRULE:FREQ=YEARLY;BYMONTH=3;BYDAY=-1SU
END:DAYLIGHT
BEGIN:STANDARD
TZNAME:GMT
TZOFFSETFROM:+0100
TZOFFSETTO:+0000
DTSTART:19701025T020000
RRULE:FREQ=YEARLY;BYMONTH=10;BYDAY=-1SU
END:STANDARD
END:VTIMEZONE
BEGIN:VEVENT
DTSTART;TZID=Europe/London:20250616T090000
DTEND;TZID=Europe/London:20250616T153000
DTSTAMP:20260423T225249Z
UID:{D5DF549F-BCCC-4F68-BBD38C34DCA0A3F9}
LOCATION:Millennium Point\, Curzon St\, Birmingham  B4 7XG
SUMMARY:DONT USE Global Business Conference 2025 DONT USE 
DESCRIPTION:Event details: https://www.greaterbirminghamchambers.com/event-calendar/dont-use-global-business-conference-2025-dont-use.html
PRIORITY:1
END:VEVENT
END:VCALENDAR