BEGIN:VCALENDAR
PRODID:-//Pixl8//Eventfolio//EN
VERSION:2.0
X-WR-TIMEZONE:Europe/London
CALSCALE:GREGORIAN
METHOD:PUBLISH
CLASS:PUBLIC
BEGIN:VTIMEZONE
TZID:Europe/London
LAST-MODIFIED:20260306T231828Z
TZURL:https://www.tzurl.org/zoneinfo-outlook/Europe/London
X-LIC-LOCATION:Europe/London
BEGIN:DAYLIGHT
TZNAME:BST
TZOFFSETFROM:+0000
TZOFFSETTO:+0100
DTSTART:19700329T010000
RRULE:FREQ=YEARLY;BYMONTH=3;BYDAY=-1SU
END:DAYLIGHT
BEGIN:STANDARD
TZNAME:GMT
TZOFFSETFROM:+0100
TZOFFSETTO:+0000
DTSTART:19701025T020000
RRULE:FREQ=YEARLY;BYMONTH=10;BYDAY=-1SU
END:STANDARD
END:VTIMEZONE
BEGIN:VEVENT
DTSTART;TZID=Europe/London:20220712T083000
DTEND;TZID=Europe/London:20220712T113000
DTSTAMP:20260424T112612Z
UID:{ef309a25-1f76-ed11-81ac0022481b504a}
LOCATION:WSP\, The Mailbox\, Level 2\, 100 Wharfside St\, Birmingham B1 1RQ
SUMMARY:EDGE Essentials: opening doors to big business 
DESCRIPTION:Event details: https://www.greaterbirminghamchambers.com/event-calendar/edge-essentials-opening-doors-to-big-business.html
PRIORITY:1
END:VEVENT
END:VCALENDAR