BEGIN:VCALENDAR
PRODID:-//Pixl8//Eventfolio//EN
VERSION:2.0
X-WR-TIMEZONE:Europe/London
CALSCALE:GREGORIAN
METHOD:PUBLISH
CLASS:PUBLIC
BEGIN:VTIMEZONE
TZID:Europe/London
LAST-MODIFIED:20260306T231828Z
TZURL:https://www.tzurl.org/zoneinfo-outlook/Europe/London
X-LIC-LOCATION:Europe/London
BEGIN:DAYLIGHT
TZNAME:BST
TZOFFSETFROM:+0000
TZOFFSETTO:+0100
DTSTART:19700329T010000
RRULE:FREQ=YEARLY;BYMONTH=3;BYDAY=-1SU
END:DAYLIGHT
BEGIN:STANDARD
TZNAME:GMT
TZOFFSETFROM:+0100
TZOFFSETTO:+0000
DTSTART:19701025T020000
RRULE:FREQ=YEARLY;BYMONTH=10;BYDAY=-1SU
END:STANDARD
END:VTIMEZONE
BEGIN:VEVENT
DTSTART;TZID=Europe/London:20250218T100000
DTEND;TZID=Europe/London:20250218T120000
DTSTAMP:20260422T200716Z
UID:{C01501CB-180F-4271-AE72E4D3BC8D4692}
LOCATION:Online\, Webinar Training
SUMMARY:Evaluating Your Success: Lessons from Tender Wins and Losses 
DESCRIPTION:Event details: https://www.greaterbirminghamchambers.com/event-calendar/evaluating-your-success-lessons-from-tender-wins-and-losses.html
PRIORITY:1
END:VEVENT
END:VCALENDAR