BEGIN:VCALENDAR
PRODID:-//Pixl8//Eventfolio//EN
VERSION:2.0
X-WR-TIMEZONE:Europe/London
CALSCALE:GREGORIAN
METHOD:PUBLISH
CLASS:PUBLIC
BEGIN:VTIMEZONE
TZID:Europe/London
LAST-MODIFIED:20260306T231828Z
TZURL:https://www.tzurl.org/zoneinfo-outlook/Europe/London
X-LIC-LOCATION:Europe/London
BEGIN:DAYLIGHT
TZNAME:BST
TZOFFSETFROM:+0000
TZOFFSETTO:+0100
DTSTART:19700329T010000
RRULE:FREQ=YEARLY;BYMONTH=3;BYDAY=-1SU
END:DAYLIGHT
BEGIN:STANDARD
TZNAME:GMT
TZOFFSETFROM:+0100
TZOFFSETTO:+0000
DTSTART:19701025T020000
RRULE:FREQ=YEARLY;BYMONTH=10;BYDAY=-1SU
END:STANDARD
END:VTIMEZONE
BEGIN:VEVENT
DTSTART;TZID=Europe/London:20250311T173000
DTEND;TZID=Europe/London:20250311T193000
DTSTAMP:20260423T182149Z
UID:{C8261AAE-B667-47A6-87283570867FFA87}
LOCATION:Greater Birmingham Chambers of Commerce \, 7th Floor West Wing\, 54 Hagley Road\, Birmingham B16 8PE
SUMMARY:Fast for a Day
DESCRIPTION:Event details: https://www.greaterbirminghamchambers.com/event-calendar/fast-for-a-day-2025.html
PRIORITY:1
END:VEVENT
END:VCALENDAR