BEGIN:VCALENDAR
PRODID:-//Pixl8//Eventfolio//EN
VERSION:2.0
X-WR-TIMEZONE:Europe/London
CALSCALE:GREGORIAN
METHOD:PUBLISH
CLASS:PUBLIC
BEGIN:VTIMEZONE
TZID:Europe/London
LAST-MODIFIED:20260306T231828Z
TZURL:https://www.tzurl.org/zoneinfo-outlook/Europe/London
X-LIC-LOCATION:Europe/London
BEGIN:DAYLIGHT
TZNAME:BST
TZOFFSETFROM:+0000
TZOFFSETTO:+0100
DTSTART:19700329T010000
RRULE:FREQ=YEARLY;BYMONTH=3;BYDAY=-1SU
END:DAYLIGHT
BEGIN:STANDARD
TZNAME:GMT
TZOFFSETFROM:+0100
TZOFFSETTO:+0000
DTSTART:19701025T020000
RRULE:FREQ=YEARLY;BYMONTH=10;BYDAY=-1SU
END:STANDARD
END:VTIMEZONE
BEGIN:VEVENT
DTSTART;TZID=Europe/London:20241112T173000
DTEND;TZID=Europe/London:20241112T193000
DTSTAMP:20260423T183653Z
UID:{D1926839-D39E-43E7-A6B30D3466ADAF9C}
LOCATION:The Button Factory \, 25 Frederick Street\, Birmingham   B1 3HH
SUMMARY:Future Faces Charity Quiz 2024
DESCRIPTION:Event details: https://www.greaterbirminghamchambers.com/event-calendar/future-faces-charity-quiz-2024.html
PRIORITY:1
END:VEVENT
END:VCALENDAR