BEGIN:VCALENDAR
PRODID:-//Pixl8//Eventfolio//EN
VERSION:2.0
X-WR-TIMEZONE:Europe/London
CALSCALE:GREGORIAN
METHOD:PUBLISH
CLASS:PUBLIC
BEGIN:VTIMEZONE
TZID:Europe/London
LAST-MODIFIED:20260306T231828Z
TZURL:https://www.tzurl.org/zoneinfo-outlook/Europe/London
X-LIC-LOCATION:Europe/London
BEGIN:DAYLIGHT
TZNAME:BST
TZOFFSETFROM:+0000
TZOFFSETTO:+0100
DTSTART:19700329T010000
RRULE:FREQ=YEARLY;BYMONTH=3;BYDAY=-1SU
END:DAYLIGHT
BEGIN:STANDARD
TZNAME:GMT
TZOFFSETFROM:+0100
TZOFFSETTO:+0000
DTSTART:19701025T020000
RRULE:FREQ=YEARLY;BYMONTH=10;BYDAY=-1SU
END:STANDARD
END:VTIMEZONE
BEGIN:VEVENT
DTSTART;TZID=Europe/London:20250410T083000
DTEND;TZID=Europe/London:20250410T103000
DTSTAMP:20260423T232900Z
UID:{3F1DCA7A-9C10-4E0E-802510BFE142FDCA}
LOCATION:Albert's Schloss
SUMMARY:Future Faces Kick Off 2025, Breakfast Networking and AGM
DESCRIPTION:Event details: https://www.greaterbirminghamchambers.com/event-calendar/future-faces-kick-off-2025-breakfast-networking-and-agm.html
PRIORITY:1
END:VEVENT
END:VCALENDAR