BEGIN:VCALENDAR
PRODID:-//Pixl8//Eventfolio//EN
VERSION:2.0
X-WR-TIMEZONE:Europe/London
CALSCALE:GREGORIAN
METHOD:PUBLISH
CLASS:PUBLIC
BEGIN:VTIMEZONE
TZID:Europe/London
LAST-MODIFIED:20260306T231828Z
TZURL:https://www.tzurl.org/zoneinfo-outlook/Europe/London
X-LIC-LOCATION:Europe/London
BEGIN:DAYLIGHT
TZNAME:BST
TZOFFSETFROM:+0000
TZOFFSETTO:+0100
DTSTART:19700329T010000
RRULE:FREQ=YEARLY;BYMONTH=3;BYDAY=-1SU
END:DAYLIGHT
BEGIN:STANDARD
TZNAME:GMT
TZOFFSETFROM:+0100
TZOFFSETTO:+0000
DTSTART:19701025T020000
RRULE:FREQ=YEARLY;BYMONTH=10;BYDAY=-1SU
END:STANDARD
END:VTIMEZONE
BEGIN:VEVENT
DTSTART;TZID=Europe/London:20240111T173000
DTEND;TZID=Europe/London:20240111T193000
DTSTAMP:20260423T183653Z
UID:{FAC7CB12-DEC1-4E19-9E87CAF737452A5B}
LOCATION:Alpha Works\, Alpha Tower\, Suffolk Street Queensway\, Birmingham\, B1 1TT
SUMMARY:Future Faces Professional Development - Strengths Awareness and Confidence
DESCRIPTION:Event details: https://www.greaterbirminghamchambers.com/event-calendar/future-faces-professional-development-strengths-awareness-and-confidence.html
PRIORITY:1
END:VEVENT
END:VCALENDAR