BEGIN:VCALENDAR
PRODID:-//Pixl8//Eventfolio//EN
VERSION:2.0
X-WR-TIMEZONE:Europe/London
CALSCALE:GREGORIAN
METHOD:PUBLISH
CLASS:PUBLIC
BEGIN:VTIMEZONE
TZID:Europe/London
LAST-MODIFIED:20260306T231828Z
TZURL:https://www.tzurl.org/zoneinfo-outlook/Europe/London
X-LIC-LOCATION:Europe/London
BEGIN:DAYLIGHT
TZNAME:BST
TZOFFSETFROM:+0000
TZOFFSETTO:+0100
DTSTART:19700329T010000
RRULE:FREQ=YEARLY;BYMONTH=3;BYDAY=-1SU
END:DAYLIGHT
BEGIN:STANDARD
TZNAME:GMT
TZOFFSETFROM:+0100
TZOFFSETTO:+0000
DTSTART:19701025T020000
RRULE:FREQ=YEARLY;BYMONTH=10;BYDAY=-1SU
END:STANDARD
END:VTIMEZONE
BEGIN:VEVENT
DTSTART;TZID=Europe/London:20250916T173000
DTEND;TZID=Europe/London:20250916T193000
DTSTAMP:20260423T183718Z
UID:{66B72D03-7BF0-45B6-8BA6E1BE08FBAEA4}
LOCATION:Roxy Ball Room
SUMMARY:Future Faces Social Networking at Roxy Ball Room
DESCRIPTION:Event details: https://www.greaterbirminghamchambers.com/event-calendar/future-faces-social-networking-at-roxy-ball-room.html
PRIORITY:1
END:VEVENT
END:VCALENDAR