BEGIN:VCALENDAR
PRODID:-//Pixl8//Eventfolio//EN
VERSION:2.0
X-WR-TIMEZONE:Europe/London
CALSCALE:GREGORIAN
METHOD:PUBLISH
CLASS:PUBLIC
BEGIN:VTIMEZONE
TZID:Europe/London
LAST-MODIFIED:20260306T231828Z
TZURL:https://www.tzurl.org/zoneinfo-outlook/Europe/London
X-LIC-LOCATION:Europe/London
BEGIN:DAYLIGHT
TZNAME:BST
TZOFFSETFROM:+0000
TZOFFSETTO:+0100
DTSTART:19700329T010000
RRULE:FREQ=YEARLY;BYMONTH=3;BYDAY=-1SU
END:DAYLIGHT
BEGIN:STANDARD
TZNAME:GMT
TZOFFSETFROM:+0100
TZOFFSETTO:+0000
DTSTART:19701025T020000
RRULE:FREQ=YEARLY;BYMONTH=10;BYDAY=-1SU
END:STANDARD
END:VTIMEZONE
BEGIN:VEVENT
DTSTART;TZID=Europe/London:20230418T163000
DTEND;TZID=Europe/London:20230418T183000
DTSTAMP:20260424T113351Z
UID:{73e8d9d3-61d4-ed11-a7c6002248c8ed10}
LOCATION:Korey's Bar and Grill\, Lower Gungate\, Tamworth  B79 7AT
SUMMARY:Future Faces Social Networking Lichfield & Tamworth 
DESCRIPTION:Event details: https://www.greaterbirminghamchambers.com/event-calendar/future-faces-social-networking-lichfield-tamworth-180423-230418.html
PRIORITY:1
END:VEVENT
END:VCALENDAR