BEGIN:VCALENDAR
PRODID:-//Pixl8//Eventfolio//EN
VERSION:2.0
X-WR-TIMEZONE:Europe/London
CALSCALE:GREGORIAN
METHOD:PUBLISH
CLASS:PUBLIC
BEGIN:VTIMEZONE
TZID:Europe/London
LAST-MODIFIED:20260306T231828Z
TZURL:https://www.tzurl.org/zoneinfo-outlook/Europe/London
X-LIC-LOCATION:Europe/London
BEGIN:DAYLIGHT
TZNAME:BST
TZOFFSETFROM:+0000
TZOFFSETTO:+0100
DTSTART:19700329T010000
RRULE:FREQ=YEARLY;BYMONTH=3;BYDAY=-1SU
END:DAYLIGHT
BEGIN:STANDARD
TZNAME:GMT
TZOFFSETFROM:+0100
TZOFFSETTO:+0000
DTSTART:19701025T020000
RRULE:FREQ=YEARLY;BYMONTH=10;BYDAY=-1SU
END:STANDARD
END:VTIMEZONE
BEGIN:VEVENT
DTSTART;TZID=Europe/London:20251016T093000
DTEND;TZID=Europe/London:20251016T113000
DTSTAMP:20260424T130636Z
UID:{25BD9AD6-A0B9-483B-B78619F956FED0E8}
LOCATION:Orelle \, 103\, Colmore Row\, Birmingham City Centre  B3 3AG
SUMMARY:Global Brunch - Curiosity and Confidence
DESCRIPTION:Event details: https://www.greaterbirminghamchambers.com/event-calendar/global-brunch-curiosity-and-confidence.html
PRIORITY:1
END:VEVENT
END:VCALENDAR