BEGIN:VCALENDAR
PRODID:-//Pixl8//Eventfolio//EN
VERSION:2.0
X-WR-TIMEZONE:Europe/London
CALSCALE:GREGORIAN
METHOD:PUBLISH
CLASS:PUBLIC
BEGIN:VTIMEZONE
TZID:Europe/London
LAST-MODIFIED:20260306T231828Z
TZURL:https://www.tzurl.org/zoneinfo-outlook/Europe/London
X-LIC-LOCATION:Europe/London
BEGIN:DAYLIGHT
TZNAME:BST
TZOFFSETFROM:+0000
TZOFFSETTO:+0100
DTSTART:19700329T010000
RRULE:FREQ=YEARLY;BYMONTH=3;BYDAY=-1SU
END:DAYLIGHT
BEGIN:STANDARD
TZNAME:GMT
TZOFFSETFROM:+0100
TZOFFSETTO:+0000
DTSTART:19701025T020000
RRULE:FREQ=YEARLY;BYMONTH=10;BYDAY=-1SU
END:STANDARD
END:VTIMEZONE
BEGIN:VEVENT
DTSTART;TZID=Europe/London:20261202T110000
DTEND;TZID=Europe/London:20261202T120000
DTSTAMP:20260423T173100Z
UID:{CC7575C3-0D9B-4B1A-A3B62662B1FF5B5E}
LOCATION:Online\, Webinar Training
SUMMARY:Global Market Insight Webinar - Eastern Europe
DESCRIPTION:Event details: https://www.greaterbirminghamchambers.com/event-calendar/global-market-insight-webinar-eastern-europe.html
PRIORITY:1
END:VEVENT
END:VCALENDAR