BEGIN:VCALENDAR
PRODID:-//Pixl8//Eventfolio//EN
VERSION:2.0
X-WR-TIMEZONE:Europe/London
CALSCALE:GREGORIAN
METHOD:PUBLISH
CLASS:PUBLIC
BEGIN:VTIMEZONE
TZID:Europe/London
LAST-MODIFIED:20260306T231828Z
TZURL:https://www.tzurl.org/zoneinfo-outlook/Europe/London
X-LIC-LOCATION:Europe/London
BEGIN:DAYLIGHT
TZNAME:BST
TZOFFSETFROM:+0000
TZOFFSETTO:+0100
DTSTART:19700329T010000
RRULE:FREQ=YEARLY;BYMONTH=3;BYDAY=-1SU
END:DAYLIGHT
BEGIN:STANDARD
TZNAME:GMT
TZOFFSETFROM:+0100
TZOFFSETTO:+0000
DTSTART:19701025T020000
RRULE:FREQ=YEARLY;BYMONTH=10;BYDAY=-1SU
END:STANDARD
END:VTIMEZONE
BEGIN:VEVENT
DTSTART;TZID=Europe/London:20230215T120000
DTEND;TZID=Europe/London:20230215T180000
DTSTAMP:20260424T093040Z
UID:{4106a50e-e45c-ec11-81cf005056bf1e5b}
LOCATION:Royal Birmingham Conservatoire\, Birmingham City University\, 200 Jennens Road\, Birmingham  B4 7XR
SUMMARY:Global Trade Conference
DESCRIPTION:Event details: https://www.greaterbirminghamchambers.com/event-calendar/global-trade-conference-150922.html
PRIORITY:1
END:VEVENT
END:VCALENDAR