BEGIN:VCALENDAR
PRODID:-//Pixl8//Eventfolio//EN
VERSION:2.0
X-WR-TIMEZONE:Europe/London
CALSCALE:GREGORIAN
METHOD:PUBLISH
CLASS:PUBLIC
BEGIN:VTIMEZONE
TZID:Europe/London
LAST-MODIFIED:20260306T231828Z
TZURL:https://www.tzurl.org/zoneinfo-outlook/Europe/London
X-LIC-LOCATION:Europe/London
BEGIN:DAYLIGHT
TZNAME:BST
TZOFFSETFROM:+0000
TZOFFSETTO:+0100
DTSTART:19700329T010000
RRULE:FREQ=YEARLY;BYMONTH=3;BYDAY=-1SU
END:DAYLIGHT
BEGIN:STANDARD
TZNAME:GMT
TZOFFSETFROM:+0100
TZOFFSETTO:+0000
DTSTART:19701025T020000
RRULE:FREQ=YEARLY;BYMONTH=10;BYDAY=-1SU
END:STANDARD
END:VTIMEZONE
BEGIN:VEVENT
DTSTART;TZID=Europe/London:20230321T103000
DTEND;TZID=Europe/London:20230321T120000
DTSTAMP:20260423T230052Z
UID:{538d3132-50a1-ed11-aad10022481b589a}
LOCATION:Pinsent Masons\, 55 Colmore Row\, Birmingham B3 2FG
SUMMARY:Growth Through People - Harnessing Personal Resilience in Challenging Times
DESCRIPTION:Event details: https://www.greaterbirminghamchambers.com/event-calendar/growth-through-people-harnessing-personal-resilience-in-challenging-times-230321.html
PRIORITY:1
END:VEVENT
END:VCALENDAR