BEGIN:VCALENDAR
PRODID:-//Pixl8//Eventfolio//EN
VERSION:2.0
X-WR-TIMEZONE:Europe/London
CALSCALE:GREGORIAN
METHOD:PUBLISH
CLASS:PUBLIC
BEGIN:VTIMEZONE
TZID:Europe/London
LAST-MODIFIED:20260306T231828Z
TZURL:https://www.tzurl.org/zoneinfo-outlook/Europe/London
X-LIC-LOCATION:Europe/London
BEGIN:DAYLIGHT
TZNAME:BST
TZOFFSETFROM:+0000
TZOFFSETTO:+0100
DTSTART:19700329T010000
RRULE:FREQ=YEARLY;BYMONTH=3;BYDAY=-1SU
END:DAYLIGHT
BEGIN:STANDARD
TZNAME:GMT
TZOFFSETFROM:+0100
TZOFFSETTO:+0000
DTSTART:19701025T020000
RRULE:FREQ=YEARLY;BYMONTH=10;BYDAY=-1SU
END:STANDARD
END:VTIMEZONE
BEGIN:VEVENT
DTSTART;TZID=Europe/London:20251111T093000
DTEND;TZID=Europe/London:20251111T160000
DTSTAMP:20260423T172247Z
UID:{43C32D99-105C-4171-AC5B91083445014D}
LOCATION:Greater Birmingham Chambers of Commerce\, 54 Hagley Road\, Birmingham 
SUMMARY:Internal Auditor Training
DESCRIPTION:Event details: https://www.greaterbirminghamchambers.com/event-calendar/internal-auditor-training-11-11-2025.html
PRIORITY:1
END:VEVENT
END:VCALENDAR