BEGIN:VCALENDAR
PRODID:-//Pixl8//Eventfolio//EN
VERSION:2.0
X-WR-TIMEZONE:Europe/London
CALSCALE:GREGORIAN
METHOD:PUBLISH
CLASS:PUBLIC
BEGIN:VTIMEZONE
TZID:Europe/London
LAST-MODIFIED:20260306T231828Z
TZURL:https://www.tzurl.org/zoneinfo-outlook/Europe/London
X-LIC-LOCATION:Europe/London
BEGIN:DAYLIGHT
TZNAME:BST
TZOFFSETFROM:+0000
TZOFFSETTO:+0100
DTSTART:19700329T010000
RRULE:FREQ=YEARLY;BYMONTH=3;BYDAY=-1SU
END:DAYLIGHT
BEGIN:STANDARD
TZNAME:GMT
TZOFFSETFROM:+0100
TZOFFSETTO:+0000
DTSTART:19701025T020000
RRULE:FREQ=YEARLY;BYMONTH=10;BYDAY=-1SU
END:STANDARD
END:VTIMEZONE
BEGIN:VEVENT
DTSTART;TZID=Europe/London:20230920T110000
DTEND;TZID=Europe/London:20230920T130000
DTSTAMP:20260424T113233Z
UID:{d195eeb3-f51e-ee11-9967002248c8ecc4}
LOCATION:Cathedral Hotel Lichfield \, 62 Beacon St\, Lichfield  WS13 7AR
SUMMARY:Networking Lunch Lichfield & Tamworth 
DESCRIPTION:Event details: https://www.greaterbirminghamchambers.com/event-calendar/networking-lunch-lichfield-tamworth-230920.html
PRIORITY:1
END:VEVENT
END:VCALENDAR