BEGIN:VCALENDAR
PRODID:-//Pixl8//Eventfolio//EN
VERSION:2.0
X-WR-TIMEZONE:Europe/London
CALSCALE:GREGORIAN
METHOD:PUBLISH
CLASS:PUBLIC
BEGIN:VTIMEZONE
TZID:Europe/London
LAST-MODIFIED:20260306T231828Z
TZURL:https://www.tzurl.org/zoneinfo-outlook/Europe/London
X-LIC-LOCATION:Europe/London
BEGIN:DAYLIGHT
TZNAME:BST
TZOFFSETFROM:+0000
TZOFFSETTO:+0100
DTSTART:19700329T010000
RRULE:FREQ=YEARLY;BYMONTH=3;BYDAY=-1SU
END:DAYLIGHT
BEGIN:STANDARD
TZNAME:GMT
TZOFFSETFROM:+0100
TZOFFSETTO:+0000
DTSTART:19701025T020000
RRULE:FREQ=YEARLY;BYMONTH=10;BYDAY=-1SU
END:STANDARD
END:VTIMEZONE
BEGIN:VEVENT
DTSTART;TZID=Europe/London:20230405T110000
DTEND;TZID=Europe/London:20230405T130000
DTSTAMP:20260423T172856Z
UID:{5ae1f784-06a2-ed11-aad10022481b504a}
LOCATION:Boldmere St Michael's Football Club\, Church Rd\, Sutton Coldfield B73 5RY
SUMMARY:Networking Lunch Sutton Coldfield 
DESCRIPTION:Event details: https://www.greaterbirminghamchambers.com/event-calendar/networking-lunch-sutton-coldfield-050423-230119.html
PRIORITY:1
END:VEVENT
END:VCALENDAR