BEGIN:VCALENDAR
PRODID:-//Pixl8//Eventfolio//EN
VERSION:2.0
X-WR-TIMEZONE:Europe/London
CALSCALE:GREGORIAN
METHOD:PUBLISH
CLASS:PUBLIC
BEGIN:VTIMEZONE
TZID:Europe/London
LAST-MODIFIED:20260306T231828Z
TZURL:https://www.tzurl.org/zoneinfo-outlook/Europe/London
X-LIC-LOCATION:Europe/London
BEGIN:DAYLIGHT
TZNAME:BST
TZOFFSETFROM:+0000
TZOFFSETTO:+0100
DTSTART:19700329T010000
RRULE:FREQ=YEARLY;BYMONTH=3;BYDAY=-1SU
END:DAYLIGHT
BEGIN:STANDARD
TZNAME:GMT
TZOFFSETFROM:+0100
TZOFFSETTO:+0000
DTSTART:19701025T020000
RRULE:FREQ=YEARLY;BYMONTH=10;BYDAY=-1SU
END:STANDARD
END:VTIMEZONE
BEGIN:VEVENT
DTSTART;TZID=Europe/London:20221124T093000
DTEND;TZID=Europe/London:20221124T123000
DTSTAMP:20260424T121425Z
UID:{e6063a55-91c4-ec11-81f5005056bf1e5b}
LOCATION:Online\, Webinar Training
SUMMARY:Preference – Rules of Origin (BCC Accredited)
DESCRIPTION:Event details: https://www.greaterbirminghamchambers.com/event-calendar/preference-rules-of-origin-bcc-accredited-24th-nov-2022-221124.html
PRIORITY:1
END:VEVENT
END:VCALENDAR