BEGIN:VCALENDAR
PRODID:-//Pixl8//Eventfolio//EN
VERSION:2.0
X-WR-TIMEZONE:Europe/London
CALSCALE:GREGORIAN
METHOD:PUBLISH
CLASS:PUBLIC
BEGIN:VTIMEZONE
TZID:Europe/London
LAST-MODIFIED:20260306T231828Z
TZURL:https://www.tzurl.org/zoneinfo-outlook/Europe/London
X-LIC-LOCATION:Europe/London
BEGIN:DAYLIGHT
TZNAME:BST
TZOFFSETFROM:+0000
TZOFFSETTO:+0100
DTSTART:19700329T010000
RRULE:FREQ=YEARLY;BYMONTH=3;BYDAY=-1SU
END:DAYLIGHT
BEGIN:STANDARD
TZNAME:GMT
TZOFFSETFROM:+0100
TZOFFSETTO:+0000
DTSTART:19701025T020000
RRULE:FREQ=YEARLY;BYMONTH=10;BYDAY=-1SU
END:STANDARD
END:VTIMEZONE
BEGIN:VEVENT
DTSTART;TZID=Europe/London:20230615T163000
DTEND;TZID=Europe/London:20230615T183000
DTSTAMP:20260424T144217Z
UID:{9b12cb56-7bcd-ed11-a7c6002248c8ed10}
LOCATION:Yakinori Solihull\, 26 Jubilee Walk Touchwood\, Solihull  B91 3HT
SUMMARY:Pro Solihull Networking
DESCRIPTION:Event details: https://www.greaterbirminghamchambers.com/event-calendar/pro-solihull-networking-230615.html
PRIORITY:1
END:VEVENT
END:VCALENDAR