BEGIN:VCALENDAR
PRODID:-//Pixl8//Eventfolio//EN
VERSION:2.0
X-WR-TIMEZONE:Europe/London
CALSCALE:GREGORIAN
METHOD:PUBLISH
CLASS:PUBLIC
BEGIN:VTIMEZONE
TZID:Europe/London
LAST-MODIFIED:20260306T231828Z
TZURL:https://www.tzurl.org/zoneinfo-outlook/Europe/London
X-LIC-LOCATION:Europe/London
BEGIN:DAYLIGHT
TZNAME:BST
TZOFFSETFROM:+0000
TZOFFSETTO:+0100
DTSTART:19700329T010000
RRULE:FREQ=YEARLY;BYMONTH=3;BYDAY=-1SU
END:DAYLIGHT
BEGIN:STANDARD
TZNAME:GMT
TZOFFSETFROM:+0100
TZOFFSETTO:+0000
DTSTART:19701025T020000
RRULE:FREQ=YEARLY;BYMONTH=10;BYDAY=-1SU
END:STANDARD
END:VTIMEZONE
BEGIN:VEVENT
DTSTART;TZID=Europe/London:20230927T163000
DTEND;TZID=Europe/London:20230927T183000
DTSTAMP:20260424T093732Z
UID:{8e988eb8-f51e-ee11-9966002248c8ec47}
LOCATION:Annie Maison \, 1 Station St\, Burton-on-Trent  DE14 1AN
SUMMARY:Social Networking Burton & District 
DESCRIPTION:Event details: https://www.greaterbirminghamchambers.com/event-calendar/social-networking-burton-district-230927.html
PRIORITY:1
END:VEVENT
END:VCALENDAR