BEGIN:VCALENDAR
PRODID:-//Pixl8//Eventfolio//EN
VERSION:2.0
X-WR-TIMEZONE:Europe/London
CALSCALE:GREGORIAN
METHOD:PUBLISH
CLASS:PUBLIC
BEGIN:VTIMEZONE
TZID:Europe/London
LAST-MODIFIED:20260306T231828Z
TZURL:https://www.tzurl.org/zoneinfo-outlook/Europe/London
X-LIC-LOCATION:Europe/London
BEGIN:DAYLIGHT
TZNAME:BST
TZOFFSETFROM:+0000
TZOFFSETTO:+0100
DTSTART:19700329T010000
RRULE:FREQ=YEARLY;BYMONTH=3;BYDAY=-1SU
END:DAYLIGHT
BEGIN:STANDARD
TZNAME:GMT
TZOFFSETFROM:+0100
TZOFFSETTO:+0000
DTSTART:19701025T020000
RRULE:FREQ=YEARLY;BYMONTH=10;BYDAY=-1SU
END:STANDARD
END:VTIMEZONE
BEGIN:VEVENT
DTSTART;TZID=Europe/London:20231214T173000
DTEND;TZID=Europe/London:20231214T193000
DTSTAMP:20260424T093408Z
UID:{AFEF79D9-9C26-44B3-92B14A3246E249C6}
LOCATION:The Regency Hotel\, Harry's Bar\, Stratford Rd\, Shirley\, B90 4EB
SUMMARY:Solihull President’s Christmas Drinks
DESCRIPTION:Event details: https://www.greaterbirminghamchambers.com/event-calendar/social-networking-presidents-.html
PRIORITY:1
END:VEVENT
END:VCALENDAR