BEGIN:VCALENDAR
PRODID:-//Pixl8//Eventfolio//EN
VERSION:2.0
X-WR-TIMEZONE:Europe/London
CALSCALE:GREGORIAN
METHOD:PUBLISH
CLASS:PUBLIC
BEGIN:VTIMEZONE
TZID:Europe/London
LAST-MODIFIED:20260306T231828Z
TZURL:https://www.tzurl.org/zoneinfo-outlook/Europe/London
X-LIC-LOCATION:Europe/London
BEGIN:DAYLIGHT
TZNAME:BST
TZOFFSETFROM:+0000
TZOFFSETTO:+0100
DTSTART:19700329T010000
RRULE:FREQ=YEARLY;BYMONTH=3;BYDAY=-1SU
END:DAYLIGHT
BEGIN:STANDARD
TZNAME:GMT
TZOFFSETFROM:+0100
TZOFFSETTO:+0000
DTSTART:19701025T020000
RRULE:FREQ=YEARLY;BYMONTH=10;BYDAY=-1SU
END:STANDARD
END:VTIMEZONE
BEGIN:VEVENT
DTSTART;TZID=Europe/London:20230720T163000
DTEND;TZID=Europe/London:20230720T183000
DTSTAMP:20260424T082818Z
UID:{ee7d2021-19e4-ed11-8846002248c8ed0c}
LOCATION:WAA Chosen Collaboration Centre\, Wrens Court\, 58 Victoria Road\, Sutton Coldfield  B72 1SY
SUMMARY:Social Networking Sutton Coldfield
DESCRIPTION:Event details: https://www.greaterbirminghamchambers.com/event-calendar/social-networking-sutton-coldfield-230720.html
PRIORITY:1
END:VEVENT
END:VCALENDAR