BEGIN:VCALENDAR
PRODID:-//Pixl8//Eventfolio//EN
VERSION:2.0
X-WR-TIMEZONE:Europe/London
CALSCALE:GREGORIAN
METHOD:PUBLISH
CLASS:PUBLIC
BEGIN:VTIMEZONE
TZID:Europe/London
LAST-MODIFIED:20260306T231828Z
TZURL:https://www.tzurl.org/zoneinfo-outlook/Europe/London
X-LIC-LOCATION:Europe/London
BEGIN:DAYLIGHT
TZNAME:BST
TZOFFSETFROM:+0000
TZOFFSETTO:+0100
DTSTART:19700329T010000
RRULE:FREQ=YEARLY;BYMONTH=3;BYDAY=-1SU
END:DAYLIGHT
BEGIN:STANDARD
TZNAME:GMT
TZOFFSETFROM:+0100
TZOFFSETTO:+0000
DTSTART:19701025T020000
RRULE:FREQ=YEARLY;BYMONTH=10;BYDAY=-1SU
END:STANDARD
END:VTIMEZONE
BEGIN:VEVENT
DTSTART;TZID=Europe/London:20230709T150000
DTEND;TZID=Europe/London:20230709T180000
DTSTAMP:20260424T133336Z
UID:{23dcbcb5-6a1a-ee11-8f6d002248c8ed10}
LOCATION:Hogarths \, Four Ashes Road\, Dorridge\, Solihull B93 8QE
SUMMARY:Solihull Chamber Retro Games 2023
DESCRIPTION:Event details: https://www.greaterbirminghamchambers.com/event-calendar/solihull-chamber-retro-games-2023-230907.html
PRIORITY:1
END:VEVENT
END:VCALENDAR