BEGIN:VCALENDAR
PRODID:-//Pixl8//Eventfolio//EN
VERSION:2.0
X-WR-TIMEZONE:Europe/London
CALSCALE:GREGORIAN
METHOD:PUBLISH
CLASS:PUBLIC
BEGIN:VTIMEZONE
TZID:Europe/London
LAST-MODIFIED:20260306T231828Z
TZURL:https://www.tzurl.org/zoneinfo-outlook/Europe/London
X-LIC-LOCATION:Europe/London
BEGIN:DAYLIGHT
TZNAME:BST
TZOFFSETFROM:+0000
TZOFFSETTO:+0100
DTSTART:19700329T010000
RRULE:FREQ=YEARLY;BYMONTH=3;BYDAY=-1SU
END:DAYLIGHT
BEGIN:STANDARD
TZNAME:GMT
TZOFFSETFROM:+0100
TZOFFSETTO:+0000
DTSTART:19701025T020000
RRULE:FREQ=YEARLY;BYMONTH=10;BYDAY=-1SU
END:STANDARD
END:VTIMEZONE
BEGIN:VEVENT
DTSTART;TZID=Europe/London:20230321T083000
DTEND;TZID=Europe/London:20230321T103000
DTSTAMP:20260425T194118Z
UID:{a2541d81-e879-ed11-81ad0022481b589a}
LOCATION:Lichfield Garrick Theatre\, Castle Dyke\, Lichfield WS13 6HR
SUMMARY:Speed Networking Lichfield & Tamworth
DESCRIPTION:Event details: https://www.greaterbirminghamchambers.com/event-calendar/speed-networking-lichfield-tamworth-210323.html
PRIORITY:1
END:VEVENT
END:VCALENDAR