BEGIN:VCALENDAR
PRODID:-//Pixl8//Eventfolio//EN
VERSION:2.0
X-WR-TIMEZONE:Europe/London
CALSCALE:GREGORIAN
METHOD:PUBLISH
CLASS:PUBLIC
BEGIN:VTIMEZONE
TZID:Europe/London
LAST-MODIFIED:20260306T231828Z
TZURL:https://www.tzurl.org/zoneinfo-outlook/Europe/London
X-LIC-LOCATION:Europe/London
BEGIN:DAYLIGHT
TZNAME:BST
TZOFFSETFROM:+0000
TZOFFSETTO:+0100
DTSTART:19700329T010000
RRULE:FREQ=YEARLY;BYMONTH=3;BYDAY=-1SU
END:DAYLIGHT
BEGIN:STANDARD
TZNAME:GMT
TZOFFSETFROM:+0100
TZOFFSETTO:+0000
DTSTART:19701025T020000
RRULE:FREQ=YEARLY;BYMONTH=10;BYDAY=-1SU
END:STANDARD
END:VTIMEZONE
BEGIN:VEVENT
DTSTART;TZID=Europe/London:20230823T230000
DTEND;TZID=Europe/London:20230824T160000
DTSTAMP:20260425T181945Z
UID:{ec34e8ca-0e31-ee11-bdf36045bd0b24e8}
LOCATION:Start-Up and Small Business Academy\, Birmingham  Application form
SUMMARY:Start-up and Small Business Academy Launch Cohort 2
DESCRIPTION:Event details: https://www.greaterbirminghamchambers.com/event-calendar/start-up-and-small-business-academy-launch-cohort-2-230802.html
PRIORITY:1
END:VEVENT
END:VCALENDAR