BEGIN:VCALENDAR
PRODID:-//Pixl8//Eventfolio//EN
VERSION:2.0
X-WR-TIMEZONE:Europe/London
CALSCALE:GREGORIAN
METHOD:PUBLISH
CLASS:PUBLIC
BEGIN:VTIMEZONE
TZID:Europe/London
LAST-MODIFIED:20260306T231828Z
TZURL:https://www.tzurl.org/zoneinfo-outlook/Europe/London
X-LIC-LOCATION:Europe/London
BEGIN:DAYLIGHT
TZNAME:BST
TZOFFSETFROM:+0000
TZOFFSETTO:+0100
DTSTART:19700329T010000
RRULE:FREQ=YEARLY;BYMONTH=3;BYDAY=-1SU
END:DAYLIGHT
BEGIN:STANDARD
TZNAME:GMT
TZOFFSETFROM:+0100
TZOFFSETTO:+0000
DTSTART:19701025T020000
RRULE:FREQ=YEARLY;BYMONTH=10;BYDAY=-1SU
END:STANDARD
END:VTIMEZONE
BEGIN:VEVENT
DTSTART;TZID=Europe/London:20240723T173000
DTEND;TZID=Europe/London:20240723T193000
DTSTAMP:20260423T053312Z
UID:{E1B4DC3B-148B-4105-8245BA73C1F28D8E}
LOCATION:Malmaison \, The Mailbox\, 1 Wharfside Street\, Birmingham B1 1RD
SUMMARY:The Power of Mentoring, spotlight on public speaking
DESCRIPTION:Event details: https://www.greaterbirminghamchambers.com/event-calendar/the-power-of-mentoring-spotlight-on-public-speaking.html
PRIORITY:1
END:VEVENT
END:VCALENDAR