BEGIN:VCALENDAR
PRODID:-//Pixl8//Eventfolio//EN
VERSION:2.0
X-WR-TIMEZONE:Europe/London
CALSCALE:GREGORIAN
METHOD:PUBLISH
CLASS:PUBLIC
BEGIN:VTIMEZONE
TZID:Europe/London
LAST-MODIFIED:20260306T231828Z
TZURL:https://www.tzurl.org/zoneinfo-outlook/Europe/London
X-LIC-LOCATION:Europe/London
BEGIN:DAYLIGHT
TZNAME:BST
TZOFFSETFROM:+0000
TZOFFSETTO:+0100
DTSTART:19700329T010000
RRULE:FREQ=YEARLY;BYMONTH=3;BYDAY=-1SU
END:DAYLIGHT
BEGIN:STANDARD
TZNAME:GMT
TZOFFSETFROM:+0100
TZOFFSETTO:+0000
DTSTART:19701025T020000
RRULE:FREQ=YEARLY;BYMONTH=10;BYDAY=-1SU
END:STANDARD
END:VTIMEZONE
BEGIN:VEVENT
DTSTART;TZID=Europe/London:20241003T120000
DTEND;TZID=Europe/London:20241003T123000
DTSTAMP:20260424T115409Z
UID:{5967D6AA-9AA7-4BD4-9A478C0DA1AE9CE9}
LOCATION:Edgbaston Stadium\, Edgbaston Rd\, Birmingham B5 7QU
SUMMARY:The Power of PR: telling the story of your business 
DESCRIPTION:Event details: https://www.greaterbirminghamchambers.com/event-calendar/the-power-of-pr-telling-the-story-of-your-business.html
PRIORITY:1
END:VEVENT
END:VCALENDAR