BEGIN:VCALENDAR
PRODID:-//Pixl8//Eventfolio//EN
VERSION:2.0
X-WR-TIMEZONE:Europe/London
CALSCALE:GREGORIAN
METHOD:PUBLISH
CLASS:PUBLIC
BEGIN:VTIMEZONE
TZID:Europe/London
LAST-MODIFIED:20260306T231828Z
TZURL:https://www.tzurl.org/zoneinfo-outlook/Europe/London
X-LIC-LOCATION:Europe/London
BEGIN:DAYLIGHT
TZNAME:BST
TZOFFSETFROM:+0000
TZOFFSETTO:+0100
DTSTART:19700329T010000
RRULE:FREQ=YEARLY;BYMONTH=3;BYDAY=-1SU
END:DAYLIGHT
BEGIN:STANDARD
TZNAME:GMT
TZOFFSETFROM:+0100
TZOFFSETTO:+0000
DTSTART:19701025T020000
RRULE:FREQ=YEARLY;BYMONTH=10;BYDAY=-1SU
END:STANDARD
END:VTIMEZONE
BEGIN:VEVENT
DTSTART;TZID=Europe/London:20241209T100000
DTEND;TZID=Europe/London:20241209T140000
DTSTAMP:20260423T171521Z
UID:{7694FFA5-6DD4-4471-87758768B436150D}
LOCATION:Greater Birmingham Chambers of Commerce\, 54 Hagley Road\, Birmingham 
SUMMARY:Understanding Tender Documents and Buyer Requirements
DESCRIPTION:Event details: https://www.greaterbirminghamchambers.com/event-calendar/understanding-tender-documents-and-buyer-requirements.html
PRIORITY:1
END:VEVENT
END:VCALENDAR